BEGIN:VCALENDAR
VERSION:2.0
PRODID:-//Blaskie's KItchen - ECPv6.15.20//NONSGML v1.0//EN
CALSCALE:GREGORIAN
METHOD:PUBLISH
X-WR-CALNAME:Blaskie's KItchen
X-ORIGINAL-URL:https://blaskieskitchen.com
X-WR-CALDESC:Events for Blaskie's KItchen
REFRESH-INTERVAL;VALUE=DURATION:PT1H
X-Robots-Tag:noindex
X-PUBLISHED-TTL:PT1H
BEGIN:VTIMEZONE
TZID:UTC
BEGIN:STANDARD
TZOFFSETFROM:+0000
TZOFFSETTO:+0000
TZNAME:UTC
DTSTART:20230101T000000
END:STANDARD
END:VTIMEZONE
BEGIN:VEVENT
DTSTART;TZID=UTC:20250503T080000
DTEND;TZID=UTC:20250503T180000
DTSTAMP:20260419T134805
CREATED:20250326T191348Z
LAST-MODIFIED:20250326T192622Z
UID:7366-1746259200-1746295200@blaskieskitchen.com
SUMMARY:HISTORICAL VENICE CINCO de MAYO FESTIVAL and PARADE in VENICE
DESCRIPTION:
URL:https://blaskieskitchen.com/event/historical-venice-cinco-de-mayo-festival-and-parade-in-venice/
LOCATION:OAKWOOD PARK\, 767 California Avenue\, Venice\, CA\, 90291\, United States
ATTACH;FMTTYPE=image/webp:https://blaskieskitchen.com/wp-content/uploads/2025/03/Cinco-de-Mayo.webp
END:VEVENT
BEGIN:VEVENT
DTSTART;TZID=UTC:20250502T160000
DTEND;TZID=UTC:20250502T210000
DTSTAMP:20260419T134805
CREATED:20250326T190257Z
LAST-MODIFIED:20250326T190257Z
UID:7364-1746201600-1746219600@blaskieskitchen.com
SUMMARY:PORT TOWN BREWING COMPANY in SAN PEDRO
DESCRIPTION:
URL:https://blaskieskitchen.com/event/port-town-brewing-company-in-san-pedro/
LOCATION:Port Town Brewing Company\, 285 W 7th Street\, San Pedro\, CA\, 90731\, United States
ATTACH;FMTTYPE=image/png:https://blaskieskitchen.com/wp-content/uploads/2025/02/Screenshot_20250202-215846.png
END:VEVENT
BEGIN:VEVENT
DTSTART;TZID=UTC:20250419T120000
DTEND;TZID=UTC:20250419T210000
DTSTAMP:20260419T134805
CREATED:20250326T190046Z
LAST-MODIFIED:20250326T190046Z
UID:7362-1745064000-1745096400@blaskieskitchen.com
SUMMARY:PORT TOWN BREWERY in SAN PEDRO
DESCRIPTION:
URL:https://blaskieskitchen.com/event/port-town-brewery-in-san-pedro-2/
LOCATION:Port Town Brewing Company\, 285 W 7th Street\, San Pedro\, CA\, 90731\, United States
ATTACH;FMTTYPE=image/png:https://blaskieskitchen.com/wp-content/uploads/2025/02/Screenshot_20250202-215846.png
END:VEVENT
BEGIN:VEVENT
DTSTART;TZID=UTC:20250411T170000
DTEND;TZID=UTC:20250411T210000
DTSTAMP:20260419T134805
CREATED:20250406T071748Z
LAST-MODIFIED:20250406T071748Z
UID:7410-1744390800-1744405200@blaskieskitchen.com
SUMMARY:LONG BEACH EATS
DESCRIPTION:
URL:https://blaskieskitchen.com/event/long-beach-eats/
LOCATION:300 Promenade North Long Beach\, 300 Promenade North\, Long Beach\, Ca
ATTACH;FMTTYPE=image/png:https://blaskieskitchen.com/wp-content/uploads/2025/04/Screenshot_20250406-001349.png
END:VEVENT
BEGIN:VEVENT
DTSTART;TZID=UTC:20250406T090000
DTEND;TZID=UTC:20250406T170000
DTSTAMP:20260419T134805
CREATED:20250324T035457Z
LAST-MODIFIED:20250324T035457Z
UID:7357-1743930000-1743958800@blaskieskitchen.com
SUMMARY:SPRING FLING FESTIVAL in SAN MARCOS
DESCRIPTION:Welcome Spring with us in San Marcos!
URL:https://blaskieskitchen.com/event/spring-fling-festival-in-san-marcos/
LOCATION:245 N City Drive San Marcos\, 241 North City Drive\, San Marcos\, CA\, 92071\, United States
ATTACH;FMTTYPE=image/png:https://blaskieskitchen.com/wp-content/uploads/2025/03/EventPhotoFull_IG-Square-SMSpringFestival_25.png
END:VEVENT
BEGIN:VEVENT
DTSTART;TZID=UTC:20250404T160000
DTEND;TZID=UTC:20250404T210000
DTSTAMP:20260419T134805
CREATED:20250324T035008Z
LAST-MODIFIED:20250324T035008Z
UID:7355-1743782400-1743800400@blaskieskitchen.com
SUMMARY:PORT TOWN BREWERY in SAN PEDRO
DESCRIPTION:
URL:https://blaskieskitchen.com/event/port-town-brewery-in-san-pedro/
LOCATION:Port Town Brewing Company\, 285 W 7th Street\, San Pedro\, CA\, 90731\, United States
ATTACH;FMTTYPE=image/png:https://blaskieskitchen.com/wp-content/uploads/2025/02/Screenshot_20250202-215846.png
END:VEVENT
BEGIN:VEVENT
DTSTART;TZID=UTC:20250402T160000
DTEND;TZID=UTC:20250402T210000
DTSTAMP:20260419T134805
CREATED:20250401T041724Z
LAST-MODIFIED:20250401T041724Z
UID:7394-1743609600-1743627600@blaskieskitchen.com
SUMMARY:PORT TOWN BREWERY- SAN PEDRO
DESCRIPTION:Come in for SALSA and your favorite food and beer!
URL:https://blaskieskitchen.com/event/port-town-brewery-san-pedro-2/
LOCATION:Port Town Brewing Company\, 285 W 7th Street\, San Pedro\, CA\, 90731\, United States
ATTACH;FMTTYPE=image/png:https://blaskieskitchen.com/wp-content/uploads/2025/02/Screenshot_20250202-215846.png
END:VEVENT
BEGIN:VEVENT
DTSTART;TZID=UTC:20250402T110000
DTEND;TZID=UTC:20250402T140000
DTSTAMP:20260419T134805
CREATED:20250305T054003Z
LAST-MODIFIED:20250305T054003Z
UID:7251-1743591600-1743602400@blaskieskitchen.com
SUMMARY:GLORIA MOLINA GRAND PARK
DESCRIPTION:
URL:https://blaskieskitchen.com/event/gloria-molina-grand-park/
LOCATION:Gloria Molina Grand Park\, 200 N Grand Ave\, Los Angeles\, CA\, 90012\, United States
ATTACH;FMTTYPE=image/jpeg:https://blaskieskitchen.com/wp-content/uploads/2025/02/PXL_20241002_173455599.MP_-scaled.jpg
END:VEVENT
BEGIN:VEVENT
DTSTART;TZID=UTC:20250329T180000
DTEND;TZID=UTC:20250329T210000
DTSTAMP:20260419T134805
CREATED:20250324T033500Z
LAST-MODIFIED:20250324T033500Z
UID:7351-1743271200-1743282000@blaskieskitchen.com
SUMMARY:GOLDEN SAILS HOTEL  in Long Beach on PCH
DESCRIPTION:Come out for your favorites !
URL:https://blaskieskitchen.com/event/golden-sails-hotel-in-long-beach-on-pch/
LOCATION:Golden Sails Hotel\, 6285 E Pacific Coast Highway\, Long Beach\, CA\, 90803\, United States
ATTACH;FMTTYPE=image/jpeg:https://blaskieskitchen.com/wp-content/uploads/2025/03/gOLDEN-SAILS-HOTEL-LOGO-images.jpg
END:VEVENT
BEGIN:VEVENT
DTSTART;TZID=UTC:20250329T110000
DTEND;TZID=UTC:20250329T150000
DTSTAMP:20260419T134805
CREATED:20250324T032959Z
LAST-MODIFIED:20250324T032959Z
UID:7348-1743246000-1743260400@blaskieskitchen.com
SUMMARY:#WomenOwnedFestival @ Gloria Molina Grand Park
DESCRIPTION:We are excited to be at the WomenOwnedFestival @ Gloria Molina Grand Park. We are a women owned business as well! Come out and support and have some delicious food!
URL:https://blaskieskitchen.com/event/womenownedfestival-gloria-molina-grand-park/
LOCATION:Gloria Molina Grand Park\, 200 N Grand Ave\, Los Angeles\, CA\, 90012\, United States
ATTACH;FMTTYPE=application/pdf:https://blaskieskitchen.com/wp-content/uploads/2025/03/Save-the-Date-WomenOwned-Bilingual-Flyer.pdf
END:VEVENT
BEGIN:VEVENT
DTSTART;TZID=UTC:20250322T140000
DTEND;TZID=UTC:20250322T210000
DTSTAMP:20260419T134805
CREATED:20250305T053840Z
LAST-MODIFIED:20250305T053840Z
UID:7249-1742652000-1742677200@blaskieskitchen.com
SUMMARY:PORT TOWN BREWING COMPANY
DESCRIPTION:
URL:https://blaskieskitchen.com/event/port-town-brewing-company-2/
LOCATION:Port Town Brewing Company\, 285 W 7th Street\, San Pedro\, CA\, 90731\, United States
ATTACH;FMTTYPE=image/png:https://blaskieskitchen.com/wp-content/uploads/2025/02/Screenshot_20250202-215846.png
END:VEVENT
BEGIN:VEVENT
DTSTART;TZID=UTC:20250321T170000
DTEND;TZID=UTC:20250321T210000
DTSTAMP:20260419T134805
CREATED:20250305T053640Z
LAST-MODIFIED:20250305T053640Z
UID:7247-1742576400-1742590800@blaskieskitchen.com
SUMMARY:PowerPlay Pickle Ball
DESCRIPTION:We will be here for Friday Night Lights
URL:https://blaskieskitchen.com/event/powerplay-pickle-ball/
LOCATION:PowerPlay Pickleball\, 19401 S Main St\, Carson\, CA\, 90248\, United States
END:VEVENT
BEGIN:VEVENT
DTSTART;TZID=UTC:20250317T140000
DTEND;TZID=UTC:20250317T210000
DTSTAMP:20260419T134805
CREATED:20250227T064255Z
LAST-MODIFIED:20250227T064335Z
UID:7189-1742220000-1742245200@blaskieskitchen.com
SUMMARY:ST. PATRICK'S DAY @ PORT TOWN BREWING COMPANY in SAN PEDRO
DESCRIPTION:Celebrate St. Patrick’s Day with us and great crafted Beer!!
URL:https://blaskieskitchen.com/event/st-patricks-day-port-town-brewing-company-in-san-pedro/
LOCATION:Port Town Brewing Company\, 285 W 7th Street\, San Pedro\, CA\, 90731\, United States
ATTACH;FMTTYPE=image/png:https://blaskieskitchen.com/wp-content/uploads/2025/02/Screenshot_20250202-215846.png
END:VEVENT
BEGIN:VEVENT
DTSTART;TZID=UTC:20250314T080000
DTEND;TZID=UTC:20250315T170000
DTSTAMP:20260419T134805
CREATED:20250305T053407Z
LAST-MODIFIED:20250305T053407Z
UID:7244-1741939200-1742058000@blaskieskitchen.com
SUMMARY:Upland Irish Festival
DESCRIPTION:
URL:https://blaskieskitchen.com/event/upland-irish-festival/
LOCATION:Historic Downtown Upland\, 305 N 2nd Street\, Upland\, CA\, 91786\, United States
END:VEVENT
BEGIN:VEVENT
DTSTART;TZID=UTC:20250309T080000
DTEND;TZID=UTC:20250309T160000
DTSTAMP:20260419T134805
CREATED:20250227T063243Z
LAST-MODIFIED:20250227T063243Z
UID:7186-1741507200-1741536000@blaskieskitchen.com
SUMMARY:NATIONAL JR. PICKLEBALL TOURNAMENT- POWERPLAY PICKLEBALL- CARSON
DESCRIPTION:Breakfast\, Lunch and Dinner!
URL:https://blaskieskitchen.com/event/national-jr-pickleball-tournament-powerplay-pickleball-carson-2/
LOCATION:PowerPlay Pickleball\, 19401 S Main St\, Carson\, CA\, 90248\, United States
ATTACH;FMTTYPE=image/webp:https://blaskieskitchen.com/wp-content/uploads/2025/02/pickleball-tournament-jr.webp
END:VEVENT
BEGIN:VEVENT
DTSTART;TZID=UTC:20250308T120000
DTEND;TZID=UTC:20250308T210000
DTSTAMP:20260419T134805
CREATED:20250227T063019Z
LAST-MODIFIED:20250227T072927Z
UID:7183-1741435200-1741467600@blaskieskitchen.com
SUMMARY:NATIONAL JR. PICKLEBALL TOURNAMENT- POWERPLAY PICKLEBALL- CARSON
DESCRIPTION:We are excited to be your food option at the National Jr. Pickleball Tournament this weekend!!  We will be serving Breakfast\, Lunch and Dinner on Sunday!  Come by and enjoy the competitions and have some great food!
URL:https://blaskieskitchen.com/event/national-jr-pickleball-tournament-powerplay-pickleball-carson/
LOCATION:PowerPlay Pickleball\, 19401 S Main St\, Carson\, CA\, 90248\, United States
ATTACH;FMTTYPE=image/webp:https://blaskieskitchen.com/wp-content/uploads/2025/02/pickleball-tournament-jr.webp
END:VEVENT
BEGIN:VEVENT
DTSTART;TZID=UTC:20250307T110000
DTEND;TZID=UTC:20250307T220000
DTSTAMP:20260419T134805
CREATED:20250227T061616Z
LAST-MODIFIED:20250227T061616Z
UID:7175-1741345200-1741384800@blaskieskitchen.com
SUMMARY:BOOTS IN THE PARK - BAKERSFIELD
DESCRIPTION:We will be here !
URL:https://blaskieskitchen.com/event/boots-in-the-park-bakersfield-2/
LOCATION:Bakersfield sports village\, 9001 Ashe Rd\, Bakersfield\, CA\, 93313\, United States
ATTACH;FMTTYPE=image/jpeg:https://blaskieskitchen.com/wp-content/uploads/2025/02/Boots-in-the-Park-Bakersfield1275X1650_BAKERSFIELD_BND.jpg
END:VEVENT
BEGIN:VEVENT
DTSTART;TZID=UTC:20250302T140000
DTEND;TZID=UTC:20250302T200000
DTSTAMP:20260419T134805
CREATED:20250227T062153Z
LAST-MODIFIED:20250227T072805Z
UID:7181-1740924000-1740945600@blaskieskitchen.com
SUMMARY:PORT TOWN BREWING COMPANY- SAN PEDRO
DESCRIPTION:
URL:https://blaskieskitchen.com/event/port-town-brewing-company-san-pedro-2/
LOCATION:Port Town Brewing Company\, 285 W 7th Street\, San Pedro\, CA\, 90731\, United States
ATTACH;FMTTYPE=image/png:https://blaskieskitchen.com/wp-content/uploads/2025/02/Screenshot_20250202-215846.png
END:VEVENT
BEGIN:VEVENT
DTSTART;TZID=UTC:20250301T140000
DTEND;TZID=UTC:20250301T220000
DTSTAMP:20260419T134805
CREATED:20250227T062006Z
LAST-MODIFIED:20250227T072734Z
UID:7179-1740837600-1740866400@blaskieskitchen.com
SUMMARY:PORT TOWN BREWING COMPANY- SAN PEDRO
DESCRIPTION:Meet us for your FAVORITES – SAN PEDRO!  We will be here Saturday and Sunday!
URL:https://blaskieskitchen.com/event/port-town-brewery-san-pedro/
LOCATION:Port Town Brewing Company\, 285 W 7th Street\, San Pedro\, CA\, 90731\, United States
ATTACH;FMTTYPE=image/png:https://blaskieskitchen.com/wp-content/uploads/2025/02/Screenshot_20250202-215846.png
END:VEVENT
BEGIN:VEVENT
DTSTART;TZID=UTC:20250223T110000
DTEND;TZID=UTC:20250223T110000
DTSTAMP:20260419T134805
CREATED:20250211T180458Z
LAST-MODIFIED:20250211T180523Z
UID:6763-1740308400-1740308400@blaskieskitchen.com
SUMMARY:BLACK HISTORY MONTH FESTIVAL
DESCRIPTION:
URL:https://blaskieskitchen.com/event/black-history-month-festival/
LOCATION:Pan Pacific Park\, 7600 Beverly Blvd\, Los Angeles\, CA\, 90036\, United States
ATTACH;FMTTYPE=image/png:https://blaskieskitchen.com/wp-content/uploads/2025/02/Screenshot_20250202-221612-1.png
END:VEVENT
BEGIN:VEVENT
DTSTART;TZID=UTC:20250222T110000
DTEND;TZID=UTC:20250222T110000
DTSTAMP:20260419T134805
CREATED:20250213T064540Z
LAST-MODIFIED:20250213T064602Z
UID:6920-1740222000-1740222000@blaskieskitchen.com
SUMMARY:GOLDEN SAILS HOTEL- LONG BEACH
DESCRIPTION:
URL:https://blaskieskitchen.com/event/golden-sails-hotel-long-beach-2/
LOCATION:Golden Sails Hotel\, 6285 E Pacific Coast Highway\, Long Beach\, CA\, 90803\, United States
ATTACH;FMTTYPE=image/png:https://blaskieskitchen.com/wp-content/uploads/2024/08/blaskie-logo.png
END:VEVENT
BEGIN:VEVENT
DTSTART;TZID=UTC:20250216T160000
DTEND;TZID=UTC:20250216T210000
DTSTAMP:20260419T134805
CREATED:20250211T003007Z
LAST-MODIFIED:20250211T003007Z
UID:6730-1739721600-1739739600@blaskieskitchen.com
SUMMARY:Port Town Brewing Company
DESCRIPTION:Tomorrow’s a HOLIDAY!! Come by and enjoy the evening with us at Port Town Brewing Company !
URL:https://blaskieskitchen.com/event/port-town-brewing-company/
LOCATION:Port Town Brewing Company\, 285 W 7th Street\, San Pedro\, CA\, 90731\, United States
ATTACH;FMTTYPE=image/png:https://blaskieskitchen.com/wp-content/uploads/2025/02/Screenshot_20250202-215846.png
END:VEVENT
BEGIN:VEVENT
DTSTART;TZID=UTC:20250212T160000
DTEND;TZID=UTC:20250212T210000
DTSTAMP:20260419T134805
CREATED:20250203T060931Z
LAST-MODIFIED:20250203T060931Z
UID:6675-1739376000-1739394000@blaskieskitchen.com
SUMMARY:PORT TOWN BREWING COMPANY- San Pedro
DESCRIPTION:This Wednesday will be our Debut at Port Town Brewing Company and the beginning of a BEAUTIFUL RELATIONSHIP!  We are excited to be back to San Pedro – doing what we do BEST at Port Town Brewing Company.  Come by and enjoy your favorites along with some awesome drinks at Port Town… we will be here regularly in the coming weeks– look at our IG and website regularly for updates.  Even better- subscribe! Hope to see you here!!
URL:https://blaskieskitchen.com/event/port-town-brewing-company-san-pedro/
LOCATION:Port Town Brewing Company\, 285 W 7th Street\, San Pedro\, CA\, 90731\, United States
ATTACH;FMTTYPE=image/png:https://blaskieskitchen.com/wp-content/uploads/2025/02/Screenshot_20250202-215846.png
END:VEVENT
BEGIN:VEVENT
DTSTART;TZID=UTC:20250205T110000
DTEND;TZID=UTC:20250205T110000
DTSTAMP:20260419T134805
CREATED:20250203T054830Z
LAST-MODIFIED:20250203T054930Z
UID:6668-1738753200-1738753200@blaskieskitchen.com
SUMMARY:ILWU Credit Union - Lunch
DESCRIPTION:Just us for lunch at the credit union!  We will be hosting lunch this afternoon – it’s a perfect time to get a sampling of our menu items!
URL:https://blaskieskitchen.com/event/ilwu-credit-union-lunch/
LOCATION:3447 Atlantic Avenue Long Beach CA\, 3447 Atlantic Avenue\, Long Beach\, CA\, 90807\, United States
ATTACH;FMTTYPE=image/png:https://blaskieskitchen.com/wp-content/uploads/2025/02/Screenshot_20250202-214404.png
END:VEVENT
BEGIN:VEVENT
DTSTART;TZID=UTC:20250201T080000
DTEND;TZID=UTC:20250201T170000
DTSTAMP:20260419T134805
CREATED:20250203T053247Z
LAST-MODIFIED:20250203T053247Z
UID:6665-1738396800-1738429200@blaskieskitchen.com
SUMMARY:Surf City Marathon Huntington Beach
DESCRIPTION:
URL:https://blaskieskitchen.com/event/surf-city-marathon-huntington-beach/
LOCATION:CA
ATTACH;FMTTYPE=image/jpeg:https://blaskieskitchen.com/wp-content/uploads/2025/02/PXL_20250201_175239297-scaled.jpg
END:VEVENT
BEGIN:VEVENT
DTSTART;TZID=UTC:20241231T080000
DTEND;TZID=UTC:20241231T233000
DTSTAMP:20260419T134805
CREATED:20250227T074112Z
LAST-MODIFIED:20250227T074154Z
UID:7217-1735632000-1735687800@blaskieskitchen.com
SUMMARY:NEW YEARS EVE - GLORIA MOLINA PARK !! Count down to 2025
DESCRIPTION:We are so excited to be chosen to be here at the largest WEST COAST New Year’s Eve Celebration!!
URL:https://blaskieskitchen.com/event/new-years-eve-gloria-molina-park-count-down-to-2025/
LOCATION:Gloria Molina Grand Park\, 200 N Grand Ave\, Los Angeles\, CA\, 90012\, United States
ATTACH;FMTTYPE=image/jpeg:https://blaskieskitchen.com/wp-content/uploads/2025/02/NYELA-r5-4-100-3.jpg
END:VEVENT
BEGIN:VEVENT
DTSTART;TZID=UTC:20241123T100000
DTEND;TZID=UTC:20241123T160000
DTSTAMP:20260419T134805
CREATED:20241026T033913Z
LAST-MODIFIED:20250227T073021Z
UID:6606-1732356000-1732377600@blaskieskitchen.com
SUMMARY:ILWU LONGSHORE BROTHERHOOD 4th ANNUAL TOY DRIVE
DESCRIPTION:
URL:https://blaskieskitchen.com/event/ilwu-longshore-brotherhood-4th-annual-toy-drive/
LOCATION:BOYS & GIRLS club\, 100 w 5th Street\, San Pedro\, California\, 90731
ATTACH;FMTTYPE=image/jpeg:https://blaskieskitchen.com/wp-content/uploads/2024/10/D3A7D15A-6C52-4A6C-9EB8-590DB8F88220-1.jpeg
END:VEVENT
BEGIN:VEVENT
DTSTART;TZID=UTC:20241102T180000
DTEND;TZID=UTC:20241102T180000
DTSTAMP:20260419T134805
CREATED:20241026T031202Z
LAST-MODIFIED:20250227T073106Z
UID:6599-1730570400-1730570400@blaskieskitchen.com
SUMMARY:LADS 44th Anniversary Show
DESCRIPTION:
URL:https://blaskieskitchen.com/event/lads-44th-anniversary-show/
LOCATION:CA
ATTACH;FMTTYPE=image/jpeg:https://blaskieskitchen.com/wp-content/uploads/2024/10/818402845749984014.jpg
END:VEVENT
BEGIN:VEVENT
DTSTART;TZID=UTC:20241026T100000
DTEND;TZID=UTC:20241026T200000
DTSTAMP:20260419T134805
CREATED:20241026T030310Z
LAST-MODIFIED:20250227T073138Z
UID:6595-1729936800-1729972800@blaskieskitchen.com
SUMMARY:SIMI Valley Bulldogs- Round#2 Payoffs & Semi-Finals
DESCRIPTION:
URL:https://blaskieskitchen.com/event/simi-valley-bulldogs-round2-payoffs-semi-finals/
LOCATION:Simi Valley High School\, 5400 Cochran St\, Simi Valley\, CA\, 93063\, United States
ATTACH;FMTTYPE=image/jpeg:https://blaskieskitchen.com/wp-content/uploads/2024/10/SIMI-Valley-Bulldogs-Football-Tournament.jpg
END:VEVENT
BEGIN:VEVENT
DTSTART;VALUE=DATE:20240922
DTEND;VALUE=DATE:20240924
DTSTAMP:20260419T134805
CREATED:20241026T031614Z
LAST-MODIFIED:20241026T031614Z
UID:6602-1726963200-1727135999@blaskieskitchen.com
SUMMARY:COUNTRY COASTAL JAM
DESCRIPTION:
URL:https://blaskieskitchen.com/event/country-coastal-jam/
LOCATION:CA
END:VEVENT
END:VCALENDAR